BEGIN:VCALENDAR
VERSION:2.0
PRODID:-//LGMI - ECPv6.15.13.1//NONSGML v1.0//EN
CALSCALE:GREGORIAN
METHOD:PUBLISH
X-WR-CALNAME:LGMI
X-ORIGINAL-URL:https://lig-ministries.com
X-WR-CALDESC:Events for LGMI
REFRESH-INTERVAL;VALUE=DURATION:PT1H
X-Robots-Tag:noindex
X-PUBLISHED-TTL:PT1H
BEGIN:VTIMEZONE
TZID:UTC
BEGIN:STANDARD
TZOFFSETFROM:+0000
TZOFFSETTO:+0000
TZNAME:UTC
DTSTART:20240101T000000
END:STANDARD
END:VTIMEZONE
BEGIN:VEVENT
DTSTART;TZID=UTC:20251231T190000
DTEND;TZID=UTC:20260101T070000
DTSTAMP:20260420T150236
CREATED:20250801T084000Z
LAST-MODIFIED:20250801T084000Z
UID:21863-1767207600-1767250800@lig-ministries.com
SUMMARY:Cross Over Candle Light Service
DESCRIPTION:
URL:https://lig-ministries.com/event/cross-over-candle-light-service/
LOCATION:LGMI\, Mile 4\, Wan Poultry\, Bamenda\, Northwest\, Cameroon
END:VEVENT
BEGIN:VEVENT
DTSTART;VALUE=DATE:20250825
DTEND;VALUE=DATE:20250827
DTSTAMP:20260420T150236
CREATED:20250801T083047Z
LAST-MODIFIED:20250801T083047Z
UID:21860-1756080000-1756252799@lig-ministries.com
SUMMARY:Bertoua For Christ Crusade
DESCRIPTION:
URL:https://lig-ministries.com/event/bertoua-for-christ-crusade/
END:VEVENT
BEGIN:VEVENT
DTSTART;TZID=UTC:20250629T080000
DTEND;TZID=UTC:20250629T180000
DTSTAMP:20260420T150236
CREATED:20250801T084249Z
LAST-MODIFIED:20250801T084402Z
UID:21867-1751184000-1751220000@lig-ministries.com
SUMMARY:Mid Year Candle light Service
DESCRIPTION:
URL:https://lig-ministries.com/event/mid-year-candle-light-service/
END:VEVENT
END:VCALENDAR